BEGIN:VCALENDAR
VERSION:2.0
PRODID:-//ChamberMaster//Event Calendar 2.0//EN
METHOD:PUBLISH
X-PUBLISHED-TTL:P3D
REFRESH-INTERVAL:P3D
CALSCALE:GREGORIAN
BEGIN:VEVENT
DTSTART:20170623T150000Z
DTEND:20170623T160000Z
X-MICROSOFT-CDO-ALLDAYEVENT:FALSE
SUMMARY:Workforce Development & Employer/Employee Relations - Movers\, Shakers\, Policy Makers
DESCRIPTION:Chandler Chamber members only session\n\nLet your voice be heard. Join the Chandler Chamber to provide your input on the Chambers 2018 legislative priorities. \n\nTopic: Workforce Development & Employer/Employee Relations
X-ALT-DESC;FMTTYPE=text/html:<strong><span style="color: rgb(255\, 0\, 0)\;"><span style="font-size: 16px\;">Chandler&nbsp\;Chamber members only session</span></span></strong><br />\n<span style="color: rgb(0\, 0\, 0)\;"><span style="font-size: 16px\;">Let your voice be heard. Join the Chandler Chamber to provide your input on the Chambers 2018 legislative priorities.&nbsp\;<br />\nTopic: Workforce Development &amp\; Employer/Employee Relations</span></span>
LOCATION:Chandler Chamber of Commerce 25 S Arizona Place\, Ste 201 Chandler\, AZ 85225
UID:e.1561.19042
SEQUENCE:3
DTSTAMP:20260424T093100Z
URL:https://business.chandlerchamber.com/events/details/workforce-development-employer-employee-relations-movers-shakers-policy-makers-19042
END:VEVENT

END:VCALENDAR
