BEGIN:VCALENDAR
VERSION:2.0
PRODID:-//ChamberMaster//Event Calendar 2.0//EN
METHOD:PUBLISH
X-PUBLISHED-TTL:P3D
REFRESH-INTERVAL:P3D
CALSCALE:GREGORIAN
BEGIN:VEVENT
DTSTART:20190426T160000Z
DTEND:20190426T180000Z
X-MICROSOFT-CDO-ALLDAYEVENT:FALSE
SUMMARY:Working with ADOT
DESCRIPTION:As a part of our popular Friday Forum program\, ADOT is pleased to invite you to participate in the 2019 "Working with ADOT" webinar and in-person workshop series. Our Program Goal: To build the capacity and readiness of disadvantaged business enterprises and other small business concerns who are: ? Seeking work on ADOT construction and design projects\, or ? Seeking to provide other services and supplies to the industry. The series includes presentations by key ADOT departments focusing on interactions with small business. Attendees will also receive Working with ADOT materials and have the chance to ask questions. Come Meet with these ADOT Departments: April 26: Engineering Consultants Section (ECS) May 3: Procurement May 10: Contracts & Specifications
X-ALT-DESC;FMTTYPE=text/html:As a part of our popular Friday Forum program\, ADOT is pleased to invite you to participate in the 2019 &ldquo\;Working with ADOT&rdquo\; webinar and in-person workshop series. Our Program Goal: To build the capacity and readiness of disadvantaged business enterprises and other small business concerns who are: ? Seeking work on ADOT construction and design projects\, or ? Seeking to provide other services and supplies to the industry. The series includes presentations by key ADOT departments focusing on interactions with small business. Attendees will also receive Working with ADOT materials and have the chance to ask questions. Come Meet with these ADOT Departments: April 26: Engineering Consultants Section (ECS) May 3: Procurement May 10: Contracts &amp\; Specifications
LOCATION:1801 W. Jefferson Street\, Suite 101 Phoenix\, AZ 85007
UID:e.1561.36684
SEQUENCE:3
DTSTAMP:20260423T032952Z
URL:https://business.chandlerchamber.com/events/details/working-with-adot-36684
END:VEVENT

END:VCALENDAR
