BEGIN:VCALENDAR
VERSION:2.0
PRODID:-//ChamberMaster//Event Calendar 2.0//EN
METHOD:PUBLISH
X-PUBLISHED-TTL:P3D
REFRESH-INTERVAL:P3D
CALSCALE:GREGORIAN
BEGIN:VEVENT
DTSTART:20171215T000000Z
DTEND:20171215T020000Z
X-MICROSOFT-CDO-ALLDAYEVENT:FALSE
SUMMARY:YES Gift Wrapping
DESCRIPTION:Young Executive Series Volunteer Opportunity\n\n \n\nJoin the Chandler Chamber's Young Executives for a rewarding evening of giving back to the community!\n\n\n\nYES will be volunteering to wrap gifts at the Boys & Girls Club of America in downtown Chandler. What better way to get in the holiday spirit than volunteering your time to make it a happy holiday for others? And of course\, don't forget to wear your favorite ugly holiday sweater!  Bring tape and wrapping paper for free admission!\n\n\n\nSpace is limited to the first 25 that register.\n\n\n\n** Thank you to our event sponsor Price My AC **
X-ALT-DESC;FMTTYPE=text/html:<div style="text-align: center\; color: gray\; line-height: 20.8px\;">&nbsp\;</div>\n\n<div style="color: gray\; line-height: 20.8px\;"><strong style="color: rgb(0\, 0\, 0)\; line-height: 20.8px\;">Young Executive Series&nbsp\;Volunteer Opportunity</strong></div>\n\n<div style="color: gray\; line-height: 20.8px\;">&nbsp\;</div>\n\n<div style="color: gray\; line-height: 20.8px\;"><span style="color: rgb(51\, 51\, 51)\;">Join the Chandler Chamber&#39\;s Young Executives for a rewarding&nbsp\;evening&nbsp\;of giving back to the community!<br />\n<br />\nYES will be volunteering to wrap gifts&nbsp\;at the Boys &amp\; Girls Club of America in downtown Chandler.&nbsp\;What better way to get in the holiday spirit than volunteering your time to make it a happy holiday for others? And of course\, don&#39\;t forget to wear your favorite ugly holiday sweater!&nbsp\; Bring tape and wrapping paper for free admission!<br />\n<br />\n<strong>Space is limited to the first 25 that register.</strong><br />\n<br />\n<em>** Thank you to our event sponsor Price My AC **</em></span></div>\n
LOCATION:Boys & Girls Club of America 300 E Chandler Blvd Chandler\, AZ 85225
UID:e.1561.19638
SEQUENCE:3
DTSTAMP:20260424T010846Z
URL:https://business.chandlerchamber.com/events/details/yes-gift-wrapping-19638
END:VEVENT

END:VCALENDAR
