BEGIN:VCALENDAR
VERSION:2.0
PRODID:-//ChamberMaster//Event Calendar 2.0//EN
METHOD:PUBLISH
X-PUBLISHED-TTL:P3D
REFRESH-INTERVAL:P3D
CALSCALE:GREGORIAN
BEGIN:VEVENT
DTSTART:20180608T010000Z
DTEND:20180608T030000Z
X-MICROSOFT-CDO-ALLDAYEVENT:FALSE
SUMMARY:YES - Young Executive Series
DESCRIPTION:The Young Executives will be attending Night Splash at Golfland Sunsplash\n\ndiscount tickets are available  \n\n\n\n REGISTER AND PURCHASE TICKETS HERE:\n\nhttps://store.golfland.com/index.php?loc=5\n\n\n\nBe sure to get the Thursday Night $14.99 price!
X-ALT-DESC;FMTTYPE=text/html:<p>The Young Executives will be attending Night Splash at Golfland Sunsplash<br />\ndiscount tickets are available&nbsp\;&nbsp\;</p>\n\n<p><br />\n&nbsp\;REGISTER AND PURCHASE TICKETS HERE:<br />\n<a href="https://store.golfland.com/index.php?loc=5">https://store.golfland.com/index.php?loc=5</a><br />\n<br />\nBe sure to get the Thursday&nbsp\;Night $14.99 price!</p>\n
LOCATION:Golfland Sunsplash (Night Splash) 155 W Hampton Ave Mesa\, AZ 85210 (Country Club and the US60)
UID:e.1561.33681
SEQUENCE:3
DTSTAMP:20260423T163259Z
URL:https://business.chandlerchamber.com/events/details/yes-young-executive-series-33681
END:VEVENT

END:VCALENDAR
