BEGIN:VCALENDAR
VERSION:2.0
PRODID:-//ChamberMaster//Event Calendar 2.0//EN
METHOD:PUBLISH
X-PUBLISHED-TTL:P3D
REFRESH-INTERVAL:P3D
CALSCALE:GREGORIAN
BEGIN:VEVENT
DTSTART:20200305T010000Z
DTEND:20200430T014500Z
X-MICROSOFT-CDO-ALLDAYEVENT:FALSE
SUMMARY:Yoga on the Square
DESCRIPTION:Combat the midweek slump with FREE Yoga on the Square in Downtown Chandler sponsored by New Square! Join us every Wednesday in March and April at 6 p.m. for a 45-minute\, all levels flow with Yoga's Arc. Bring your mat or rent one for $2. We can't wait to see you there.
X-ALT-DESC;FMTTYPE=text/html:Combat the midweek slump with FREE Yoga on the Square in Downtown Chandler sponsored by New Square! Join us every Wednesday in March and April at 6 p.m. for a 45-minute\, all levels flow with Yoga&#39\;s Arc. Bring your mat or rent one for $2. We can&#39\;t wait to see you there.
LOCATION:pin New Square Chandler 52 W Chicago Street\, Chandler\, Arizona 85225
UID:e.1561.38887
SEQUENCE:3
DTSTAMP:20260424T151948Z
URL:https://business.chandlerchamber.com/events/details/yoga-on-the-square-38887
END:VEVENT

END:VCALENDAR
