BEGIN:VCALENDAR
VERSION:2.0
PRODID:-//ChamberMaster//Event Calendar 2.0//EN
METHOD:PUBLISH
X-PUBLISHED-TTL:P3D
REFRESH-INTERVAL:P3D
CALSCALE:GREGORIAN
BEGIN:VEVENT
DTSTART:20170707T000000Z
DTEND:20170707T020000Z
X-MICROSOFT-CDO-ALLDAYEVENT:FALSE
SUMMARY:Young Executive Series
DESCRIPTION:Social Networking Event to allow young professionals to connect and mingle.\n\nBowling throwdown at AMF McRay Lanes.
X-ALT-DESC;FMTTYPE=text/html:<span style="font-size:16px\;"><span style="font-family:arial\;"><span background-color:="" font-size:="" style="color: rgb(51\, 51\, 51)\; font-family: sans-serif\, Arial\, Verdana\, " trebuchet="">Social Networking Event to allow young professionals to connect and mingle.<br />\nBowling throwdown at AMF McRay Lanes.</span></span></span>
LOCATION:AMF McRay Plaza Lanes 3825 W. Ray Rd. Chandler\, AZ 85226 SE corner of Ray Rd. and McClintock Dr.
UID:e.1561.17657
SEQUENCE:3
DTSTAMP:20260424T080054Z
URL:https://business.chandlerchamber.com/events/details/young-executive-series-17657
END:VEVENT

END:VCALENDAR
