BEGIN:VCALENDAR
VERSION:2.0
PRODID:-//ChamberMaster//Event Calendar 2.0//EN
METHOD:PUBLISH
X-PUBLISHED-TTL:P3D
REFRESH-INTERVAL:P3D
CALSCALE:GREGORIAN
BEGIN:VEVENT
DTSTART:20171006T000000Z
DTEND:20171006T020000Z
X-MICROSOFT-CDO-ALLDAYEVENT:FALSE
SUMMARY:Young Executive Series
DESCRIPTION:Chandler Chamber Young Executives will be at Down Time Wines!\n\nJoin the Young Executives for some wine tasting! Experience why great wines are made by hand!  Make\n\n business connections and enjoy the tastings of this\n\nspecialty wine shop that crafts over 30 varieties from all over the world. \n\n\n\n\n\n \n\n\n\nSocial Networking Event to allow young professionals to connect and mingle.
X-ALT-DESC;FMTTYPE=text/html:<p><span style="font-size:14px\;"><span background-color:="" font-size:="" style="color: rgb(51\, 51\, 51)\; font-family: sans-serif\, Arial\, Verdana\, " trebuchet="">Chandler Chamber Young Executives will be&nbsp\;at Down Time Wines!</span><br />\n<span style="font-family:arial\;">Join the&nbsp\;Young Executives for some wine tasting! Experience why great wines are made by hand!&nbsp\; Make<br />\n&nbsp\;business connections and enjoy the tastings of this<br />\nspecialty wine shop that crafts over 30 varieties from all over the world.&nbsp\;</span></span><br />\n<br />\n<br />\n&nbsp\;</p>\n\n<p><br />\n<span background-color:="" font-size:="" style="color: rgb(51\, 51\, 51)\; font-family: sans-serif\, Arial\, Verdana\, " trebuchet="">Social Networking Event to allow young professionals to connect and mingle.</span></p>\n
LOCATION:Down Time Wines 393 W Warner Rd\, #109 Chandler\, AZ 85225
UID:e.1561.17662
SEQUENCE:3
DTSTAMP:20260424T050736Z
URL:https://business.chandlerchamber.com/events/details/young-executive-series-17662
END:VEVENT

END:VCALENDAR
