BEGIN:VCALENDAR
VERSION:2.0
PRODID:-//ChamberMaster//Event Calendar 2.0//EN
METHOD:PUBLISH
X-PUBLISHED-TTL:P3D
REFRESH-INTERVAL:P3D
CALSCALE:GREGORIAN
BEGIN:VEVENT
DTSTART:20170908T000000Z
DTEND:20170908T020000Z
X-MICROSOFT-CDO-ALLDAYEVENT:FALSE
SUMMARY:Young Executive Series- Mix Cooking School
DESCRIPTION:Social Networking Event to allow young professionals to connect and mingle.\n\nMix Cooking School offers a unique variety of hands-on cooking classes for home cooks of all ages.  From fresh pasta-making to healthy cooking to luxurious baking\, we'll share new skills and provide an easy\, comfortable place to enjoy learning the craft of cooking.
X-ALT-DESC;FMTTYPE=text/html:<span style="font-family:arial\;"><span style="font-size:12px\;"><span style="color: rgb(51\, 51\, 51)\; background-color: rgb(255\, 255\, 255)\;">Social Networking Event to allow young professionals to connect and mingle.</span></span></span><br />\n<span style="font-size:12px\;"><span style="font-weight:bold\;language:en-US\;"><span style="font-family:arial\;">Mix Cooking School offers&nbsp\;a unique variety of hands-on cooking classes for home cooks of all ages. &nbsp\;From fresh pasta-making&nbsp\;to healthy cooking to&nbsp\;luxurious&nbsp\;baking\, we&rsquo\;ll share&nbsp\;new skills and provide an easy\, comfortable place to enjoy learning&nbsp\;the craft of cooking. </span></span></span>
LOCATION:Mix Cooking School 4995 S Alma School Rd\, #6 Chandler\, AZ 85248
UID:e.1561.17661
SEQUENCE:3
DTSTAMP:20260424T051130Z
URL:https://business.chandlerchamber.com/events/details/young-executive-series-mix-cooking-school-17661
END:VEVENT

END:VCALENDAR
