BEGIN:VCALENDAR
VERSION:2.0
PRODID:-//ChamberMaster//Event Calendar 2.0//EN
METHOD:PUBLISH
X-PUBLISHED-TTL:P3D
REFRESH-INTERVAL:P3D
CALSCALE:GREGORIAN
BEGIN:VEVENT
DTSTART:20170609T000000Z
DTEND:20170609T020000Z
X-MICROSOFT-CDO-ALLDAYEVENT:FALSE
SUMMARY:Young Executive Series- VB Lounge
DESCRIPTION:Chandler Chamber Young Executives are going to be right in Downtown Chandler at VB Lounge June 8th starting at 5pm. VB Lounge is located right in the Historic Downtown Chandler at 81 W Boston St\, Chandler\, AZ 85225 .\n\n\n\n The Chandler Young Professionals monthly mixer is a networking event with a flair of fun and a whole lot of energy! There will be great drink specials and appetizers to sample.\n\n\n\n Register now below.
X-ALT-DESC;FMTTYPE=text/html:<span style="font-size:16px\;"><span style="font-family:arial\;"><span style="color:#000000\;"><span style="background-color: rgb(255\, 255\, 255)\;">Chandler Chamber Young Executives are going to be right in Downtown Chandler at VB Lounge June 8th starting at 5pm. VB Lounge is located right in the Historic Downtown Chandler at </span><span class="_Xbe">81 W Boston St\, Chandler\, AZ </span></span></span></span><span class="_Xbe"><span style="font-size:16px\;"><span style="font-family:arial\;"><span style="color:#000000\;">85225 .</span></span></span><br />\n<br />\n<span style="font-size:16px\;"><span style="font-family:arial\;"><span style="color:#000000\;">&#8203\;The Chandler Young Professionals monthly mixer is a networking event with a flair of fun and a whole lot of energy! There will be great drink specials and&nbsp\;appetizers to sample.<br />\n<br />\n&#8203\;Register now&nbsp\;below. &nbsp\;&nbsp\;</span></span></span></span>
LOCATION:81 W Boston St\, Chandler\, AZ 85225
UID:e.1561.17656
SEQUENCE:3
DTSTAMP:20260424T093002Z
URL:https://business.chandlerchamber.com/events/details/young-executive-series-vb-lounge-17656
END:VEVENT

END:VCALENDAR
