BEGIN:VCALENDAR
VERSION:2.0
PRODID:-//ChamberMaster//Event Calendar 2.0//EN
METHOD:PUBLISH
X-PUBLISHED-TTL:P3D
REFRESH-INTERVAL:P3D
CALSCALE:GREGORIAN
BEGIN:VEVENT
DTSTART:20230325T170000Z
DTEND:20230326T000000Z
X-MICROSOFT-CDO-ALLDAYEVENT:FALSE
SUMMARY:Your CBD Store Customer Appreciation Day Spring Wellness
DESCRIPTION:Spring Wellness\n\nCustomer Appreciation Day\n\n\n\nStop by for BadaBling cupcakes\, donuts\, coffee & Holy Empandas for lunch! \n\nEnter to win a full auto detail\, other raffle prizes and free gift bags for the 1st 20 customers.  Mingle with these small businesses: Dr Katie with Inclusive Natural Medicine\, iFLEX\, & Dr. Sydney with Connected Health Center
X-ALT-DESC;FMTTYPE=text/html:<span style="font-size:18px\;"><strong>Spring Wellness<br />\nCustomer Appreciation Day</strong></span><br />\n<br />\nStop by for BadaBling cupcakes\, donuts\, coffee &amp\; Holy Empandas for lunch!&nbsp\;<br />\nEnter to win a full auto detail\, other raffle prizes and free gift bags for the 1st 20 customers.&nbsp\; Mingle with these small businesses: Dr Katie with Inclusive Natural Medicine\, iFLEX\, &amp\; Dr. Sydney with Connected Health Center
LOCATION:Your CBD Store 4802 E Ray Road Suite 3 Phoenix\, AZ 85044
UID:e.1561.44686
SEQUENCE:3
DTSTAMP:20260423T202855Z
URL:https://business.chandlerchamber.com/events/details/your-cbd-store-customer-appreciation-day-spring-wellness-44686
END:VEVENT

END:VCALENDAR
